BEGIN:VCALENDAR
VERSION:2.0
PRODID:-//IMLA - ECPv6.15.20//NONSGML v1.0//EN
CALSCALE:GREGORIAN
METHOD:PUBLISH
X-ORIGINAL-URL:https://imla.org
X-WR-CALDESC:Events for IMLA
REFRESH-INTERVAL;VALUE=DURATION:PT1H
X-Robots-Tag:noindex
X-PUBLISHED-TTL:PT1H
BEGIN:VTIMEZONE
TZID:America/New_York
BEGIN:DAYLIGHT
TZOFFSETFROM:-0500
TZOFFSETTO:-0400
TZNAME:EDT
DTSTART:20210314T070000
END:DAYLIGHT
BEGIN:STANDARD
TZOFFSETFROM:-0400
TZOFFSETTO:-0500
TZNAME:EST
DTSTART:20211107T060000
END:STANDARD
BEGIN:DAYLIGHT
TZOFFSETFROM:-0500
TZOFFSETTO:-0400
TZNAME:EDT
DTSTART:20220313T070000
END:DAYLIGHT
BEGIN:STANDARD
TZOFFSETFROM:-0400
TZOFFSETTO:-0500
TZNAME:EST
DTSTART:20221106T060000
END:STANDARD
BEGIN:DAYLIGHT
TZOFFSETFROM:-0500
TZOFFSETTO:-0400
TZNAME:EDT
DTSTART:20230312T070000
END:DAYLIGHT
BEGIN:STANDARD
TZOFFSETFROM:-0400
TZOFFSETTO:-0500
TZNAME:EST
DTSTART:20231105T060000
END:STANDARD
END:VTIMEZONE
BEGIN:VEVENT
DTSTART;TZID=America/New_York:20220302T150000
DTEND;TZID=America/New_York:20220302T160000
DTSTAMP:20260423T192241
CREATED:20220203T184309Z
LAST-MODIFIED:20220203T185540Z
UID:10001303-1646233200-1646236800@imla.org
SUMMARY:Diversity/Equity/Inclusion Intersectionality Call
DESCRIPTION:If you care to take part in this call\, please email cstorer@imla.org.
URL:https://imla.org/events/diversity-equity-inclusion-intersectionality-call/
CATEGORIES:IMLA Conference Call
END:VEVENT
BEGIN:VEVENT
DTSTART;TZID=America/New_York:20220303T150000
DTEND;TZID=America/New_York:20220303T160000
DTSTAMP:20260423T192241
CREATED:20210208T141126Z
LAST-MODIFIED:20211221T204722Z
UID:10001246-1646319600-1646323200@imla.org
SUMMARY:Homelessness Working Group Conference Call
DESCRIPTION:If you care to take part in this call\, please email cstorer@imla.org.
URL:https://imla.org/events/homelessness-working-group-conference-call/2022-03-03/
CATEGORIES:IMLA Conference Call
END:VEVENT
BEGIN:VEVENT
DTSTART;TZID=America/New_York:20220307T130000
DTEND;TZID=America/New_York:20220307T140000
DTSTAMP:20260423T192241
CREATED:20220225T184452Z
LAST-MODIFIED:20220225T184452Z
UID:10001321-1646658000-1646661600@imla.org
SUMMARY:Code Enforcement Call
DESCRIPTION:If you care to take part in this call\, please email cstorer@imla.org.
URL:https://imla.org/events/code-enforcement-call/
CATEGORIES:IMLA Conference Call
END:VEVENT
BEGIN:VEVENT
DTSTART;TZID=America/New_York:20220307T130000
DTEND;TZID=America/New_York:20220307T140000
DTSTAMP:20260423T192241
CREATED:20220225T184523Z
LAST-MODIFIED:20220225T184523Z
UID:10001322-1646658000-1646661600@imla.org
SUMMARY:Young Lawyers Call
DESCRIPTION:If you care to take part in this call\, please email cstorer@imla.org.
URL:https://imla.org/events/young-lawyers-call/
CATEGORIES:IMLA Conference Call
END:VEVENT
BEGIN:VEVENT
DTSTART;TZID=America/New_York:20220315T150000
DTEND;TZID=America/New_York:20220315T160000
DTSTAMP:20260423T192241
CREATED:20220225T184620Z
LAST-MODIFIED:20220225T184620Z
UID:10001323-1647356400-1647360000@imla.org
SUMMARY:Civility Discussion
DESCRIPTION:If you care to take part in this call\, please email cstorer@imla.org.
URL:https://imla.org/events/civility-discussion/
CATEGORIES:IMLA Conference Call
END:VEVENT
BEGIN:VEVENT
DTSTART;TZID=America/New_York:20220321T140000
DTEND;TZID=America/New_York:20220321T150000
DTSTAMP:20260423T192241
CREATED:20220311T161639Z
LAST-MODIFIED:20220311T161639Z
UID:10001327-1647871200-1647874800@imla.org
SUMMARY:Small / Rural Communities Call
DESCRIPTION:If you care to take part in this call\, please email cstorer@imla.org.
URL:https://imla.org/events/small-rural-communities-call3-21-22/
CATEGORIES:IMLA Conference Call
END:VEVENT
BEGIN:VEVENT
DTSTART;TZID=America/New_York:20220323T130000
DTEND;TZID=America/New_York:20220323T140000
DTSTAMP:20260423T192241
CREATED:20220225T184750Z
LAST-MODIFIED:20220225T184750Z
UID:10001324-1648040400-1648044000@imla.org
SUMMARY:DEI Book Club
DESCRIPTION:If you care to take part in this call\, please email cstorer@imla.org. \nWe will be discussing the book\, The Groundbreaking: An American City and Its Search for Justice\, by Scott Ellsworth.
URL:https://imla.org/events/dei-book-club/
CATEGORIES:IMLA Conference Call
END:VEVENT
END:VCALENDAR