BEGIN:VCALENDAR
VERSION:2.0
PRODID:-//IMLA - ECPv6.15.20//NONSGML v1.0//EN
CALSCALE:GREGORIAN
METHOD:PUBLISH
X-ORIGINAL-URL:https://imla.org
X-WR-CALDESC:Events for IMLA
REFRESH-INTERVAL;VALUE=DURATION:PT1H
X-Robots-Tag:noindex
X-PUBLISHED-TTL:PT1H
BEGIN:VTIMEZONE
TZID:America/New_York
BEGIN:DAYLIGHT
TZOFFSETFROM:-0500
TZOFFSETTO:-0400
TZNAME:EDT
DTSTART:20200308T070000
END:DAYLIGHT
BEGIN:STANDARD
TZOFFSETFROM:-0400
TZOFFSETTO:-0500
TZNAME:EST
DTSTART:20201101T060000
END:STANDARD
BEGIN:DAYLIGHT
TZOFFSETFROM:-0500
TZOFFSETTO:-0400
TZNAME:EDT
DTSTART:20210314T070000
END:DAYLIGHT
BEGIN:STANDARD
TZOFFSETFROM:-0400
TZOFFSETTO:-0500
TZNAME:EST
DTSTART:20211107T060000
END:STANDARD
BEGIN:DAYLIGHT
TZOFFSETFROM:-0500
TZOFFSETTO:-0400
TZNAME:EDT
DTSTART:20220313T070000
END:DAYLIGHT
BEGIN:STANDARD
TZOFFSETFROM:-0400
TZOFFSETTO:-0500
TZNAME:EST
DTSTART:20221106T060000
END:STANDARD
END:VTIMEZONE
BEGIN:VEVENT
DTSTART;TZID=America/New_York:20210112T143000
DTEND;TZID=America/New_York:20210112T160000
DTSTAMP:20260423T025335
CREATED:20210205T205540Z
LAST-MODIFIED:20210205T205911Z
UID:10001221-1610461800-1610467200@imla.org
SUMMARY:COVID-19 Conference Call
DESCRIPTION:If you care to take part in this call\, please email cstorer@imla.org.
URL:https://imla.org/events/county-conference-call-3/
CATEGORIES:IMLA Conference Call
END:VEVENT
BEGIN:VEVENT
DTSTART;TZID=America/New_York:20210115T140000
DTEND;TZID=America/New_York:20210115T150000
DTSTAMP:20260423T025335
CREATED:20210205T210145Z
LAST-MODIFIED:20210205T210145Z
UID:10001225-1610719200-1610722800@imla.org
SUMMARY:State League Conference Call
DESCRIPTION:If you care to take part in this call\, please email cstorer@imla.org.
URL:https://imla.org/events/state-league-conference-call/
CATEGORIES:IMLA Conference Call
END:VEVENT
BEGIN:VEVENT
DTSTART;TZID=America/New_York:20210122T140000
DTEND;TZID=America/New_York:20210122T150000
DTSTAMP:20260423T025335
CREATED:20210205T210406Z
LAST-MODIFIED:20210205T210406Z
UID:10001229-1611324000-1611327600@imla.org
SUMMARY:State League Conference Call
DESCRIPTION:If you care to take part in this call\, please email cstorer@imla.org.
URL:https://imla.org/events/state-league-conference-call-3/
CATEGORIES:IMLA Conference Call
END:VEVENT
BEGIN:VEVENT
DTSTART;TZID=America/New_York:20210128T150000
DTEND;TZID=America/New_York:20210128T160000
DTSTAMP:20260423T025335
CREATED:20210205T210210Z
LAST-MODIFIED:20210205T210259Z
UID:10001228-1611846000-1611849600@imla.org
SUMMARY:Counties Conference Call
DESCRIPTION:If you care to take part in this call\, please email cstorer@imla.org.
URL:https://imla.org/events/state-league-conference-call-2/
CATEGORIES:IMLA Conference Call
END:VEVENT
BEGIN:VEVENT
DTSTART;TZID=America/New_York:20210128T160000
DTEND;TZID=America/New_York:20210128T170000
DTSTAMP:20260423T025335
CREATED:20210205T210506Z
LAST-MODIFIED:20210205T210506Z
UID:10001232-1611849600-1611853200@imla.org
SUMMARY:Diversity and Inclusion Working Group Conference Call
DESCRIPTION:If you care to take part in this call\, please email cstorer@imla.org.
URL:https://imla.org/events/diversity-and-inclusion-working-group-conference-call/
CATEGORIES:IMLA Conference Call
END:VEVENT
END:VCALENDAR