BEGIN:VCALENDAR
VERSION:2.0
PRODID:-//IMLA - ECPv6.15.20//NONSGML v1.0//EN
CALSCALE:GREGORIAN
METHOD:PUBLISH
X-ORIGINAL-URL:https://imla.org
X-WR-CALDESC:Events for IMLA
REFRESH-INTERVAL;VALUE=DURATION:PT1H
X-Robots-Tag:noindex
X-PUBLISHED-TTL:PT1H
BEGIN:VTIMEZONE
TZID:America/New_York
BEGIN:DAYLIGHT
TZOFFSETFROM:-0500
TZOFFSETTO:-0400
TZNAME:EDT
DTSTART:20150308T070000
END:DAYLIGHT
BEGIN:STANDARD
TZOFFSETFROM:-0400
TZOFFSETTO:-0500
TZNAME:EST
DTSTART:20151101T060000
END:STANDARD
BEGIN:DAYLIGHT
TZOFFSETFROM:-0500
TZOFFSETTO:-0400
TZNAME:EDT
DTSTART:20160313T070000
END:DAYLIGHT
BEGIN:STANDARD
TZOFFSETFROM:-0400
TZOFFSETTO:-0500
TZNAME:EST
DTSTART:20161106T060000
END:STANDARD
BEGIN:DAYLIGHT
TZOFFSETFROM:-0500
TZOFFSETTO:-0400
TZNAME:EDT
DTSTART:20170312T070000
END:DAYLIGHT
BEGIN:STANDARD
TZOFFSETFROM:-0400
TZOFFSETTO:-0500
TZNAME:EST
DTSTART:20171105T060000
END:STANDARD
END:VTIMEZONE
BEGIN:VEVENT
DTSTART;TZID=America/New_York:20161214T130000
DTEND;TZID=America/New_York:20161214T130000
DTSTAMP:20260422T035515
CREATED:20200302T092622Z
LAST-MODIFIED:20200302T092622Z
UID:10000805-1481720400-1481720400@imla.org
SUMMARY:Show Me the Money – Real Estate Financing
DESCRIPTION:Extension on the June 13th Webinar: Land Use – L6\nShow Me the Money – Real Estate Financing \nFREE* \nThis free\, one-hour presentation will focus on the advantages of public finance to incentivize private development with Public-Private Partnerships (P3). \nSpeakers: Arthur C. Nelson\, Dwight Merriam & Dan Mandelker \nRegister Now!
URL:https://imla.org/events/show-me-the-money-real-estate-financing/
CATEGORIES:Webinar
END:VEVENT
END:VCALENDAR